BEGIN:VCALENDAR
VERSION:2.0
PRODID:-//Obec Nahořany, Dolsko, Doubravice, Lhota u Nahořan, Městec - ECPv5.6.0//NONSGML v1.0//EN
CALSCALE:GREGORIAN
METHOD:PUBLISH
X-WR-CALNAME:Obec Nahořany, Dolsko, Doubravice, Lhota u Nahořan, Městec
X-ORIGINAL-URL:https://nahorany.eu
X-WR-CALDESC:Akce na Obec Nahořany, Dolsko, Doubravice, Lhota u Nahořan, Městec
BEGIN:VTIMEZONE
TZID:Europe/Prague
BEGIN:DAYLIGHT
TZOFFSETFROM:+0100
TZOFFSETTO:+0200
TZNAME:CEST
DTSTART:20230326T010000
END:DAYLIGHT
BEGIN:STANDARD
TZOFFSETFROM:+0200
TZOFFSETTO:+0100
TZNAME:CET
DTSTART:20231029T010000
END:STANDARD
END:VTIMEZONE
BEGIN:VEVENT
DTSTART;TZID=Europe/Prague:20230127T180000
DTEND;TZID=Europe/Prague:20230127T200000
DTSTAMP:20260423T053001
CREATED:20230126T105801Z
LAST-MODIFIED:20230126T105938Z
UID:4523-1674842400-1674849600@nahorany.eu
SUMMARY:BESEDA S HUDEBNÍKEM A SKLADATELEM KARLEM VÁGNEREM
DESCRIPTION:Obec Nahořany pořádá tento pátek 27.1.2023 od 18 hodin v Obecním hostinci v Nahořanech\, BESEDU S HUDEBNÍKEM A SKLADATELEM KARLEM VÁGNEREM. Srdečně všechny zveme\, vstup zdarma.
URL:https://nahorany.eu/event/beseda-s-hudebnikem-a-skladatelem-karlem-vagnerem/
END:VEVENT
END:VCALENDAR