BEGIN:VCALENDAR
VERSION:2.0
PRODID:-//Obec Nahořany, Dolsko, Doubravice, Lhota u Nahořan, Městec - ECPv5.6.0//NONSGML v1.0//EN
CALSCALE:GREGORIAN
METHOD:PUBLISH
X-WR-CALNAME:Obec Nahořany, Dolsko, Doubravice, Lhota u Nahořan, Městec
X-ORIGINAL-URL:https://nahorany.eu
X-WR-CALDESC:Akce na Obec Nahořany, Dolsko, Doubravice, Lhota u Nahořan, Městec
BEGIN:VTIMEZONE
TZID:Europe/Prague
BEGIN:DAYLIGHT
TZOFFSETFROM:+0100
TZOFFSETTO:+0200
TZNAME:CEST
DTSTART:20190331T010000
END:DAYLIGHT
BEGIN:STANDARD
TZOFFSETFROM:+0200
TZOFFSETTO:+0100
TZNAME:CET
DTSTART:20191027T010000
END:STANDARD
END:VTIMEZONE
BEGIN:VEVENT
DTSTART;TZID=Europe/Prague:20190430T080000
DTEND;TZID=Europe/Prague:20190430T170000
DTSTAMP:20260423T060223
CREATED:20190130T193929Z
LAST-MODIFIED:20190130T193929Z
UID:2221-1556611200-1556643600@nahorany.eu
SUMMARY:Čarodejnice v Nahořanech u Obecního hostince
DESCRIPTION:
URL:https://nahorany.eu/event/carodejnice-nahoranech-u-obecniho-hostince/
END:VEVENT
END:VCALENDAR