BEGIN:VCALENDAR
VERSION:2.0
PRODID:-//Obec Nahořany, Dolsko, Doubravice, Lhota u Nahořan, Městec - ECPv5.6.0//NONSGML v1.0//EN
CALSCALE:GREGORIAN
METHOD:PUBLISH
X-WR-CALNAME:Obec Nahořany, Dolsko, Doubravice, Lhota u Nahořan, Městec
X-ORIGINAL-URL:https://nahorany.eu
X-WR-CALDESC:Akce na Obec Nahořany, Dolsko, Doubravice, Lhota u Nahořan, Městec
BEGIN:VTIMEZONE
TZID:Europe/Prague
BEGIN:DAYLIGHT
TZOFFSETFROM:+0100
TZOFFSETTO:+0200
TZNAME:CEST
DTSTART:20230326T010000
END:DAYLIGHT
BEGIN:STANDARD
TZOFFSETFROM:+0200
TZOFFSETTO:+0100
TZNAME:CET
DTSTART:20231029T010000
END:STANDARD
END:VTIMEZONE
BEGIN:VEVENT
DTSTART;TZID=Europe/Prague:20230225T150000
DTEND;TZID=Europe/Prague:20230225T180000
DTSTAMP:20260423T035412
CREATED:20230222T101846Z
LAST-MODIFIED:20230222T101846Z
UID:4550-1677337200-1677348000@nahorany.eu
SUMMARY:Dětský karneval
DESCRIPTION:Spolek žen Nahořany pořádá dětský karneval od 15 hodin v Obecní restauraci v Nahořanech dne 25.2.2023
URL:https://nahorany.eu/event/detsky-karneval/
END:VEVENT
END:VCALENDAR