BEGIN:VCALENDAR
VERSION:2.0
PRODID:-//Obec Nahořany, Dolsko, Doubravice, Lhota u Nahořan, Městec - ECPv5.6.0//NONSGML v1.0//EN
CALSCALE:GREGORIAN
METHOD:PUBLISH
X-WR-CALNAME:Obec Nahořany, Dolsko, Doubravice, Lhota u Nahořan, Městec
X-ORIGINAL-URL:https://nahorany.eu
X-WR-CALDESC:Akce na Obec Nahořany, Dolsko, Doubravice, Lhota u Nahořan, Městec
BEGIN:VTIMEZONE
TZID:Europe/Prague
BEGIN:DAYLIGHT
TZOFFSETFROM:+0100
TZOFFSETTO:+0200
TZNAME:CEST
DTSTART:20200329T010000
END:DAYLIGHT
BEGIN:STANDARD
TZOFFSETFROM:+0200
TZOFFSETTO:+0100
TZNAME:CET
DTSTART:20201025T010000
END:STANDARD
END:VTIMEZONE
BEGIN:VEVENT
DTSTART;TZID=Europe/Prague:20200627T080000
DTEND;TZID=Europe/Prague:20200627T170000
DTSTAMP:20260425T195440
CREATED:20200322T184207Z
LAST-MODIFIED:20200322T184207Z
UID:3044-1593244800-1593277200@nahorany.eu
SUMMARY:Míčový sedmiboj mužů\, sportovní areál Lhota TJ Nahořany
DESCRIPTION:
URL:https://nahorany.eu/event/micovy-sedmiboj-muzu-sportovni-areal-lhota-tj-nahorany/
END:VEVENT
END:VCALENDAR