BEGIN:VCALENDAR
VERSION:2.0
PRODID:-//Obec Nahořany, Dolsko, Doubravice, Lhota u Nahořan, Městec - ECPv5.6.0//NONSGML v1.0//EN
CALSCALE:GREGORIAN
METHOD:PUBLISH
X-WR-CALNAME:Obec Nahořany, Dolsko, Doubravice, Lhota u Nahořan, Městec
X-ORIGINAL-URL:https://nahorany.eu
X-WR-CALDESC:Akce na Obec Nahořany, Dolsko, Doubravice, Lhota u Nahořan, Městec
BEGIN:VTIMEZONE
TZID:Europe/Prague
BEGIN:DAYLIGHT
TZOFFSETFROM:+0100
TZOFFSETTO:+0200
TZNAME:CEST
DTSTART:20200329T010000
END:DAYLIGHT
BEGIN:STANDARD
TZOFFSETFROM:+0200
TZOFFSETTO:+0100
TZNAME:CET
DTSTART:20201025T010000
END:STANDARD
END:VTIMEZONE
BEGIN:VEVENT
DTSTART;TZID=Europe/Prague:20200627T143000
DTEND;TZID=Europe/Prague:20200627T233000
DTSTAMP:20260425T212418
CREATED:20200322T184104Z
LAST-MODIFIED:20200612T064638Z
UID:3042-1593268200-1593300600@nahorany.eu
SUMMARY:Oslavy 135. let SDH Lhota - Doubravice a sraz rodáků
DESCRIPTION:
URL:https://nahorany.eu/event/oslavy-130-let-sdh-lhota-doubravice-a-sraz-rodaku/
END:VEVENT
END:VCALENDAR