BEGIN:VCALENDAR
VERSION:2.0
PRODID:-//Obec Nahořany, Dolsko, Doubravice, Lhota u Nahořan, Městec - ECPv5.6.0//NONSGML v1.0//EN
CALSCALE:GREGORIAN
METHOD:PUBLISH
X-WR-CALNAME:Obec Nahořany, Dolsko, Doubravice, Lhota u Nahořan, Městec
X-ORIGINAL-URL:https://nahorany.eu
X-WR-CALDESC:Akce na Obec Nahořany, Dolsko, Doubravice, Lhota u Nahořan, Městec
BEGIN:VTIMEZONE
TZID:Europe/Prague
BEGIN:DAYLIGHT
TZOFFSETFROM:+0100
TZOFFSETTO:+0200
TZNAME:CEST
DTSTART:20220327T010000
END:DAYLIGHT
BEGIN:STANDARD
TZOFFSETFROM:+0200
TZOFFSETTO:+0100
TZNAME:CET
DTSTART:20221030T010000
END:STANDARD
END:VTIMEZONE
BEGIN:VEVENT
DTSTART;TZID=Europe/Prague:20220820T140000
DTEND;TZID=Europe/Prague:20220820T170000
DTSTAMP:20260425T124417
CREATED:20220727T100751Z
LAST-MODIFIED:20220727T100751Z
UID:4190-1661004000-1661014800@nahorany.eu
SUMMARY:Oslavy 50-ti let založení Tělovýchovné jednoty Nahořany
DESCRIPTION:Slavnostní odpoledne v areálu TJ ve Lhotě u Nahořan.
URL:https://nahorany.eu/event/oslavy-50-ti-let-zalozeni-telovychovne-jednoty-nahorany/
END:VEVENT
END:VCALENDAR