BEGIN:VCALENDAR
VERSION:2.0
PRODID:-//Obec Nahořany, Dolsko, Doubravice, Lhota u Nahořan, Městec - ECPv5.6.0//NONSGML v1.0//EN
CALSCALE:GREGORIAN
METHOD:PUBLISH
X-WR-CALNAME:Obec Nahořany, Dolsko, Doubravice, Lhota u Nahořan, Městec
X-ORIGINAL-URL:https://nahorany.eu
X-WR-CALDESC:Akce na Obec Nahořany, Dolsko, Doubravice, Lhota u Nahořan, Městec
BEGIN:VTIMEZONE
TZID:Europe/Prague
BEGIN:DAYLIGHT
TZOFFSETFROM:+0100
TZOFFSETTO:+0200
TZNAME:CEST
DTSTART:20190331T010000
END:DAYLIGHT
BEGIN:STANDARD
TZOFFSETFROM:+0200
TZOFFSETTO:+0100
TZNAME:CET
DTSTART:20191027T010000
END:STANDARD
END:VTIMEZONE
BEGIN:VEVENT
DTSTART;TZID=Europe/Prague:20190622T080000
DTEND;TZID=Europe/Prague:20190622T170000
DTSTAMP:20260423T100703
CREATED:20190130T194241Z
LAST-MODIFIED:20190130T194241Z
UID:2225-1561190400-1561222800@nahorany.eu
SUMMARY:Pohár starosty obce Nahořany v požárním sportu - Primátor VHPRINT NTC liga
DESCRIPTION:
URL:https://nahorany.eu/event/pohar-starosty-obce-nahorany-pozarnim-sportu-primator-vhprint-ntc-liga/
END:VEVENT
END:VCALENDAR