BEGIN:VCALENDAR
VERSION:2.0
PRODID:-//Obec Nahořany, Dolsko, Doubravice, Lhota u Nahořan, Městec - ECPv5.6.0//NONSGML v1.0//EN
CALSCALE:GREGORIAN
METHOD:PUBLISH
X-WR-CALNAME:Obec Nahořany, Dolsko, Doubravice, Lhota u Nahořan, Městec
X-ORIGINAL-URL:https://nahorany.eu
X-WR-CALDESC:Akce na Obec Nahořany, Dolsko, Doubravice, Lhota u Nahořan, Městec
BEGIN:VTIMEZONE
TZID:Europe/Prague
BEGIN:DAYLIGHT
TZOFFSETFROM:+0100
TZOFFSETTO:+0200
TZNAME:CEST
DTSTART:20180325T010000
END:DAYLIGHT
BEGIN:STANDARD
TZOFFSETFROM:+0200
TZOFFSETTO:+0100
TZNAME:CET
DTSTART:20181028T010000
END:STANDARD
END:VTIMEZONE
BEGIN:VEVENT
DTSTART;TZID=Europe/Prague:20181130T080000
DTEND;TZID=Europe/Prague:20181130T170000
DTSTAMP:20260423T083433
CREATED:20181127T105820Z
LAST-MODIFIED:20181127T105857Z
UID:2124-1543564800-1543597200@nahorany.eu
SUMMARY:Prodejní vánoční výstava ZŠ a MŠ Nahořany
DESCRIPTION:Tradiční vánoční prodejní výstava naší základní a mateřské školy od 8 do 17 hodin dne 30.11.2018.
URL:https://nahorany.eu/event/prodejni-vanocni-vystava-zs-ms-nahorany/
END:VEVENT
END:VCALENDAR