BEGIN:VCALENDAR
VERSION:2.0
PRODID:-//Obec Nahořany, Dolsko, Doubravice, Lhota u Nahořan, Městec - ECPv5.6.0//NONSGML v1.0//EN
CALSCALE:GREGORIAN
METHOD:PUBLISH
X-WR-CALNAME:Obec Nahořany, Dolsko, Doubravice, Lhota u Nahořan, Městec
X-ORIGINAL-URL:https://nahorany.eu
X-WR-CALDESC:Akce na Obec Nahořany, Dolsko, Doubravice, Lhota u Nahořan, Městec
BEGIN:VTIMEZONE
TZID:Europe/Prague
BEGIN:DAYLIGHT
TZOFFSETFROM:+0100
TZOFFSETTO:+0200
TZNAME:CEST
DTSTART:20200329T010000
END:DAYLIGHT
BEGIN:STANDARD
TZOFFSETFROM:+0200
TZOFFSETTO:+0100
TZNAME:CET
DTSTART:20201025T010000
END:STANDARD
END:VTIMEZONE
BEGIN:VEVENT
DTSTART;TZID=Europe/Prague:20200815T160000
DTEND;TZID=Europe/Prague:20200815T233000
DTSTAMP:20260426T014127
CREATED:20200322T184704Z
LAST-MODIFIED:20200717T145154Z
UID:3052-1597507200-1597534200@nahorany.eu
SUMMARY:Sele pro veřejnost - sousedské posezení\, od 16.00 hodin na návsi v Nahořanech
DESCRIPTION:
URL:https://nahorany.eu/event/sele-pro-verejnost-sousedske-posezeni-od-16-hodin-na-navsi-v-nahoranech/
END:VEVENT
END:VCALENDAR