BEGIN:VCALENDAR
VERSION:2.0
PRODID:-//Obec Nahořany, Dolsko, Doubravice, Lhota u Nahořan, Městec - ECPv5.6.0//NONSGML v1.0//EN
CALSCALE:GREGORIAN
METHOD:PUBLISH
X-WR-CALNAME:Obec Nahořany, Dolsko, Doubravice, Lhota u Nahořan, Městec
X-ORIGINAL-URL:https://nahorany.eu
X-WR-CALDESC:Akce na Obec Nahořany, Dolsko, Doubravice, Lhota u Nahořan, Městec
BEGIN:VTIMEZONE
TZID:Europe/Prague
BEGIN:DAYLIGHT
TZOFFSETFROM:+0100
TZOFFSETTO:+0200
TZNAME:CEST
DTSTART:20200329T010000
END:DAYLIGHT
BEGIN:STANDARD
TZOFFSETFROM:+0200
TZOFFSETTO:+0100
TZNAME:CET
DTSTART:20201025T010000
END:STANDARD
END:VTIMEZONE
BEGIN:VEVENT
DTSTART;TZID=Europe/Prague:20200215T200000
DTEND;TZID=Europe/Prague:20200215T233000
DTSTAMP:20260423T213802
CREATED:20191203T115647Z
LAST-MODIFIED:20191203T115647Z
UID:2887-1581796800-1581809400@nahorany.eu
SUMMARY:Sportovní ples TJ Nahořany
DESCRIPTION:Tradiční ples od 20 hodin v Obecním hostinci.
URL:https://nahorany.eu/event/sportovni-ples-tj-nahorany/
END:VEVENT
END:VCALENDAR