BEGIN:VCALENDAR
VERSION:2.0
PRODID:-//Obec Nahořany, Dolsko, Doubravice, Lhota u Nahořan, Městec - ECPv5.6.0//NONSGML v1.0//EN
CALSCALE:GREGORIAN
METHOD:PUBLISH
X-WR-CALNAME:Obec Nahořany, Dolsko, Doubravice, Lhota u Nahořan, Městec
X-ORIGINAL-URL:https://nahorany.eu
X-WR-CALDESC:Akce na Obec Nahořany, Dolsko, Doubravice, Lhota u Nahořan, Městec
BEGIN:VTIMEZONE
TZID:Europe/Prague
BEGIN:DAYLIGHT
TZOFFSETFROM:+0100
TZOFFSETTO:+0200
TZNAME:CEST
DTSTART:20210328T010000
END:DAYLIGHT
BEGIN:STANDARD
TZOFFSETFROM:+0200
TZOFFSETTO:+0100
TZNAME:CET
DTSTART:20211031T010000
END:STANDARD
END:VTIMEZONE
BEGIN:VEVENT
DTSTART;TZID=Europe/Prague:20210925T100000
DTEND;TZID=Europe/Prague:20210925T220000
DTSTAMP:20260425T142307
CREATED:20210715T071729Z
LAST-MODIFIED:20210715T071729Z
UID:3655-1632564000-1632607200@nahorany.eu
SUMMARY:Sraz rodáků obce Dolsko
DESCRIPTION:Setkání rodáků a příznivců obce Dolsko\, na návsi u Hasičské zbrojnice v Dolsku. Součástí oslav bude doprovodný program.
URL:https://nahorany.eu/event/sraz-rodaku-obce-dolsko/
END:VEVENT
END:VCALENDAR