BEGIN:VCALENDAR
VERSION:2.0
PRODID:-//Obec Nahořany, Dolsko, Doubravice, Lhota u Nahořan, Městec - ECPv5.6.0//NONSGML v1.0//EN
CALSCALE:GREGORIAN
METHOD:PUBLISH
X-WR-CALNAME:Obec Nahořany, Dolsko, Doubravice, Lhota u Nahořan, Městec
X-ORIGINAL-URL:https://nahorany.eu
X-WR-CALDESC:Akce na Obec Nahořany, Dolsko, Doubravice, Lhota u Nahořan, Městec
BEGIN:VTIMEZONE
TZID:Europe/Prague
BEGIN:DAYLIGHT
TZOFFSETFROM:+0100
TZOFFSETTO:+0200
TZNAME:CEST
DTSTART:20210328T010000
END:DAYLIGHT
BEGIN:STANDARD
TZOFFSETFROM:+0200
TZOFFSETTO:+0100
TZNAME:CET
DTSTART:20211031T010000
END:STANDARD
END:VTIMEZONE
BEGIN:VEVENT
DTSTART;TZID=Europe/Prague:20210918T100000
DTEND;TZID=Europe/Prague:20210918T200000
DTSTAMP:20260425T161149
CREATED:20210715T071400Z
LAST-MODIFIED:20210715T071400Z
UID:3653-1631959200-1631995200@nahorany.eu
SUMMARY:Sraz rodáků obce Městec a oslava k výročí 1100 let Sv. Ludmily
DESCRIPTION:Sraz rodáků obce Městec a oslava k výročí 1100 let Sv. Ludmily v obci Městec. Akce se koná na návsi u kaple Sv. Ludmily v Městci. Bude doprovodný program s občerstvením pro všechny.
URL:https://nahorany.eu/event/sraz-rodaku-obce-mestec-a-oslava-k-vyroci-1100-let-sv-ludmily/
END:VEVENT
END:VCALENDAR