BEGIN:VCALENDAR
VERSION:2.0
PRODID:-//Obec Nahořany, Dolsko, Doubravice, Lhota u Nahořan, Městec - ECPv5.6.0//NONSGML v1.0//EN
CALSCALE:GREGORIAN
METHOD:PUBLISH
X-WR-CALNAME:Obec Nahořany, Dolsko, Doubravice, Lhota u Nahořan, Městec
X-ORIGINAL-URL:https://nahorany.eu
X-WR-CALDESC:Akce na Obec Nahořany, Dolsko, Doubravice, Lhota u Nahořan, Městec
BEGIN:VTIMEZONE
TZID:Europe/Prague
BEGIN:DAYLIGHT
TZOFFSETFROM:+0100
TZOFFSETTO:+0200
TZNAME:CEST
DTSTART:20200329T010000
END:DAYLIGHT
BEGIN:STANDARD
TZOFFSETFROM:+0200
TZOFFSETTO:+0100
TZNAME:CET
DTSTART:20201025T010000
END:STANDARD
END:VTIMEZONE
BEGIN:VEVENT
DTSTART;TZID=Europe/Prague:20200704T080000
DTEND;TZID=Europe/Prague:20200704T170000
DTSTAMP:20260425T230911
CREATED:20200322T184329Z
LAST-MODIFIED:20200322T184329Z
UID:3046-1593849600-1593882000@nahorany.eu
SUMMARY:Tradiční střelby na asfaltové holuby - MS Nahořany
DESCRIPTION:
URL:https://nahorany.eu/event/tradicni-strelby-na-asfaltove-holuby-ms-nahorany/
END:VEVENT
END:VCALENDAR