BEGIN:VCALENDAR
VERSION:2.0
PRODID:-//Obec Nahořany, Dolsko, Doubravice, Lhota u Nahořan, Městec - ECPv5.6.0//NONSGML v1.0//EN
CALSCALE:GREGORIAN
METHOD:PUBLISH
X-WR-CALNAME:Obec Nahořany, Dolsko, Doubravice, Lhota u Nahořan, Městec
X-ORIGINAL-URL:https://nahorany.eu
X-WR-CALDESC:Akce na Obec Nahořany, Dolsko, Doubravice, Lhota u Nahořan, Městec
BEGIN:VTIMEZONE
TZID:Europe/Prague
BEGIN:DAYLIGHT
TZOFFSETFROM:+0100
TZOFFSETTO:+0200
TZNAME:CEST
DTSTART:20200329T010000
END:DAYLIGHT
BEGIN:STANDARD
TZOFFSETFROM:+0200
TZOFFSETTO:+0100
TZNAME:CET
DTSTART:20201025T010000
END:STANDARD
END:VTIMEZONE
BEGIN:VEVENT
DTSTART;TZID=Europe/Prague:20201231T080000
DTEND;TZID=Europe/Prague:20201231T170000
DTSTAMP:20260425T203426
CREATED:20201013T054141Z
LAST-MODIFIED:20201013T054141Z
UID:3295-1609401600-1609434000@nahorany.eu
SUMMARY:Z důvodů pandemické situace v ČR spojené s nemocí COVID 19 jsou veřejné akce dočasně ZRUŠENY
DESCRIPTION:
URL:https://nahorany.eu/event/z-duvodu-pandemicke-situace-v-cr-spojene-s-nemoci-covid-19-jsou-verejne-akce-docasne-zruseny/
END:VEVENT
END:VCALENDAR